BEGIN:VCALENDAR
VERSION:2.0
PRODID:-//wp-events-plugin.com//7.2.3.1//EN
TZID:Europe/Rome
X-WR-TIMEZONE:Europe/Rome
BEGIN:VEVENT
UID:0-3@perugia.ils.org
DTSTART;TZID=Europe/Rome:20241026T083000
DTEND;TZID=Europe/Rome:20241026T173000
DTSTAMP:20240930T155421Z
URL:https://perugia.ils.org/eventi/linux-day-2024/
SUMMARY:Linux Day 2024
DESCRIPTION:
ATTACH;FMTTYPE=image/jpeg:https://perugia.ils.org/wp-content/uploads/sites
 /2/2022/09/linuxday_fullcolor.png
CATEGORIES:Linux Day
LOCATION:Università degli Studi di Perugia\, Dipartimento di Matematica e 
 Informatica\, via Vanvitelli 1\, Perugia\, PG\, 06100\, Umbria\, Italia
GEO:43.115864;12.385045
X-APPLE-STRUCTURED-LOCATION;VALUE=URI;X-ADDRESS=via Vanvitelli 1\, Perugia\
 , PG\, 06100\, Umbria\, Italia;X-APPLE-RADIUS=100;X-TITLE=Università degl
 i Studi di Perugia\, Dipartimento di Matematica e Informatica:geo:43.11586
 4,12.385045
END:VEVENT
BEGIN:VTIMEZONE
TZID:Europe/Rome
X-LIC-LOCATION:Europe/Rome
BEGIN:DAYLIGHT
DTSTART:20240331T030000
TZOFFSETFROM:+0100
TZOFFSETTO:+0200
TZNAME:CEST
END:DAYLIGHT
END:VTIMEZONE
END:VCALENDAR