BEGIN:VCALENDAR
VERSION:2.0
PRODID:-//wp-events-plugin.com//7.2.3.1//EN
TZID:Europe/Rome
X-WR-TIMEZONE:Europe/Rome
BEGIN:VEVENT
UID:0-1@perugia.ils.org
DTSTART;TZID=Europe/Rome:20211201T000000
DTEND;TZID=Europe/Rome:20220228T000000
DTSTAMP:20211110T200456Z
URL:https://perugia.ils.org/eventi/corso-strumenti-e-accorgimenti-per-aiut
 are-nei-compiti-di-scuola/
SUMMARY:Corso strumenti (e accorgimenti) per aiutare nei compiti di scuola
DESCRIPTION:Iscriviti gratuitamente ai 4 incontri settimanali dedicati agli
  strumenti e agli accorgimenti per aiutare nei compiti a scuola.\n\nIl pro
 gramma sarà il seguente:\n\n 	Come cercare (bene) in Rete\n 	Come sceglie
 re le immagini in Rete\n 	Come costruire una presentazione multimediale\n 
 	Come costruire un biglietto usando la grafica\n\nLa prenotazione è gratu
 ita ma obbligatoria.\n\nUsa il form di seguito per prenotare il tuo posto!
 \n\nTi aspettiamo.
CATEGORIES:Corsi
END:VEVENT
BEGIN:VTIMEZONE
TZID:Europe/Rome
X-LIC-LOCATION:Europe/Rome
BEGIN:STANDARD
DTSTART:20211031T020000
TZOFFSETFROM:+0200
TZOFFSETTO:+0100
TZNAME:CET
END:STANDARD
END:VTIMEZONE
END:VCALENDAR